BEGIN:VCALENDAR
VERSION:2.0
PRODID:-//Rostocker Handballclub e.V. - ECPv5.16.4//NONSGML v1.0//EN
CALSCALE:GREGORIAN
METHOD:PUBLISH
X-ORIGINAL-URL:https://archiv.rostocker-handballclub.de
X-WR-CALDESC:Veranstaltungen für Rostocker Handballclub e.V.
REFRESH-INTERVAL;VALUE=DURATION:PT1H
X-Robots-Tag:noindex
X-PUBLISHED-TTL:PT1H
BEGIN:VTIMEZONE
TZID:Europe/Berlin
BEGIN:DAYLIGHT
TZOFFSETFROM:+0100
TZOFFSETTO:+0200
TZNAME:CEST
DTSTART:20220327T010000
END:DAYLIGHT
BEGIN:STANDARD
TZOFFSETFROM:+0200
TZOFFSETTO:+0100
TZNAME:CET
DTSTART:20221030T010000
END:STANDARD
END:VTIMEZONE
BEGIN:VEVENT
DTSTART;TZID=Europe/Berlin:20220423T190000
DTEND;TZID=Europe/Berlin:20220423T213000
DTSTAMP:20260426T025555
CREATED:20220419T064702Z
LAST-MODIFIED:20220419T064732Z
UID:7297-1650740400-1650749400@archiv.rostocker-handballclub.de
SUMMARY:Rostocker HC II - SG OSF Berlin
DESCRIPTION:
URL:https://archiv.rostocker-handballclub.de/event/rostocker-hc-ii-sg-osf-berlin/
LOCATION:Fiete-Redder-Halle\, Marieneher Straße 4\, Rostock\, 18069
CATEGORIES:Nächstes Punktspiel,Tickets
END:VEVENT
END:VCALENDAR